BEGIN:VCALENDAR
VERSION:2.0
PRODID:-//Team t Hool - ECPv6.15.20//NONSGML v1.0//EN
CALSCALE:GREGORIAN
METHOD:PUBLISH
X-WR-CALNAME:Team t Hool
X-ORIGINAL-URL:https://hethool.nl
X-WR-CALDESC:Evenementen voor Team t Hool
REFRESH-INTERVAL;VALUE=DURATION:PT1H
X-Robots-Tag:noindex
X-PUBLISHED-TTL:PT1H
BEGIN:VTIMEZONE
TZID:Europe/Amsterdam
BEGIN:DAYLIGHT
TZOFFSETFROM:+0100
TZOFFSETTO:+0200
TZNAME:CEST
DTSTART:20250330T010000
END:DAYLIGHT
BEGIN:STANDARD
TZOFFSETFROM:+0200
TZOFFSETTO:+0100
TZNAME:CET
DTSTART:20251026T010000
END:STANDARD
BEGIN:DAYLIGHT
TZOFFSETFROM:+0100
TZOFFSETTO:+0200
TZNAME:CEST
DTSTART:20260329T010000
END:DAYLIGHT
BEGIN:STANDARD
TZOFFSETFROM:+0200
TZOFFSETTO:+0100
TZNAME:CET
DTSTART:20261025T010000
END:STANDARD
BEGIN:DAYLIGHT
TZOFFSETFROM:+0100
TZOFFSETTO:+0200
TZNAME:CEST
DTSTART:20270328T010000
END:DAYLIGHT
BEGIN:STANDARD
TZOFFSETFROM:+0200
TZOFFSETTO:+0100
TZNAME:CET
DTSTART:20271031T010000
END:STANDARD
END:VTIMEZONE
BEGIN:VEVENT
DTSTART;TZID=Europe/Amsterdam:20260420T130000
DTEND;TZID=Europe/Amsterdam:20260420T150000
DTSTAMP:20260420T023129
CREATED:20260304T191719Z
LAST-MODIFIED:20260304T191719Z
UID:10005368-1776690000-1776697200@hethool.nl
SUMMARY:open inloop voor vrouwen tussen13 en 15u.
DESCRIPTION:Elke maandag opent de vernieuwde huiskamer aan de Bekerakker ( achterkant Unitas aan de Vlokhovense weg) haar deuren voor alle vrouwen uit Vlokhoven en het Hool die zin hebben in een praatje. Een plek om elkaar te ontmoeten onder het genot van een kopje koffie of thee
URL:https://hethool.nl/evenement/open-inloop-voor-vrouwen-tussen13-en-15u/2026-04-20/
CATEGORIES:Huiskamer
ATTACH;FMTTYPE=image/png:https://hethool.nl/wp-content/uploads/2026/03/file_00000000c45c724681151075fc3c25e7.png
END:VEVENT
BEGIN:VEVENT
DTSTART;TZID=Europe/Amsterdam:20260427T130000
DTEND;TZID=Europe/Amsterdam:20260427T150000
DTSTAMP:20260420T023129
CREATED:20260304T191719Z
LAST-MODIFIED:20260304T191719Z
UID:10005369-1777294800-1777302000@hethool.nl
SUMMARY:open inloop voor vrouwen tussen13 en 15u.
DESCRIPTION:Elke maandag opent de vernieuwde huiskamer aan de Bekerakker ( achterkant Unitas aan de Vlokhovense weg) haar deuren voor alle vrouwen uit Vlokhoven en het Hool die zin hebben in een praatje. Een plek om elkaar te ontmoeten onder het genot van een kopje koffie of thee
URL:https://hethool.nl/evenement/open-inloop-voor-vrouwen-tussen13-en-15u/2026-04-27/
CATEGORIES:Huiskamer
ATTACH;FMTTYPE=image/png:https://hethool.nl/wp-content/uploads/2026/03/file_00000000c45c724681151075fc3c25e7.png
END:VEVENT
BEGIN:VEVENT
DTSTART;TZID=Europe/Amsterdam:20260504T130000
DTEND;TZID=Europe/Amsterdam:20260504T150000
DTSTAMP:20260420T023129
CREATED:20260304T191719Z
LAST-MODIFIED:20260304T191719Z
UID:10005370-1777899600-1777906800@hethool.nl
SUMMARY:open inloop voor vrouwen tussen13 en 15u.
DESCRIPTION:Elke maandag opent de vernieuwde huiskamer aan de Bekerakker ( achterkant Unitas aan de Vlokhovense weg) haar deuren voor alle vrouwen uit Vlokhoven en het Hool die zin hebben in een praatje. Een plek om elkaar te ontmoeten onder het genot van een kopje koffie of thee
URL:https://hethool.nl/evenement/open-inloop-voor-vrouwen-tussen13-en-15u/2026-05-04/
CATEGORIES:Huiskamer
ATTACH;FMTTYPE=image/png:https://hethool.nl/wp-content/uploads/2026/03/file_00000000c45c724681151075fc3c25e7.png
END:VEVENT
BEGIN:VEVENT
DTSTART;TZID=Europe/Amsterdam:20260511T130000
DTEND;TZID=Europe/Amsterdam:20260511T150000
DTSTAMP:20260420T023129
CREATED:20260304T191719Z
LAST-MODIFIED:20260304T191719Z
UID:10005371-1778504400-1778511600@hethool.nl
SUMMARY:open inloop voor vrouwen tussen13 en 15u.
DESCRIPTION:Elke maandag opent de vernieuwde huiskamer aan de Bekerakker ( achterkant Unitas aan de Vlokhovense weg) haar deuren voor alle vrouwen uit Vlokhoven en het Hool die zin hebben in een praatje. Een plek om elkaar te ontmoeten onder het genot van een kopje koffie of thee
URL:https://hethool.nl/evenement/open-inloop-voor-vrouwen-tussen13-en-15u/2026-05-11/
CATEGORIES:Huiskamer
ATTACH;FMTTYPE=image/png:https://hethool.nl/wp-content/uploads/2026/03/file_00000000c45c724681151075fc3c25e7.png
END:VEVENT
BEGIN:VEVENT
DTSTART;TZID=Europe/Amsterdam:20260518T130000
DTEND;TZID=Europe/Amsterdam:20260518T150000
DTSTAMP:20260420T023129
CREATED:20260304T191719Z
LAST-MODIFIED:20260304T191719Z
UID:10005372-1779109200-1779116400@hethool.nl
SUMMARY:open inloop voor vrouwen tussen13 en 15u.
DESCRIPTION:Elke maandag opent de vernieuwde huiskamer aan de Bekerakker ( achterkant Unitas aan de Vlokhovense weg) haar deuren voor alle vrouwen uit Vlokhoven en het Hool die zin hebben in een praatje. Een plek om elkaar te ontmoeten onder het genot van een kopje koffie of thee
URL:https://hethool.nl/evenement/open-inloop-voor-vrouwen-tussen13-en-15u/2026-05-18/
CATEGORIES:Huiskamer
ATTACH;FMTTYPE=image/png:https://hethool.nl/wp-content/uploads/2026/03/file_00000000c45c724681151075fc3c25e7.png
END:VEVENT
BEGIN:VEVENT
DTSTART;TZID=Europe/Amsterdam:20260525T130000
DTEND;TZID=Europe/Amsterdam:20260525T150000
DTSTAMP:20260420T023129
CREATED:20260304T191719Z
LAST-MODIFIED:20260304T191719Z
UID:10005373-1779714000-1779721200@hethool.nl
SUMMARY:open inloop voor vrouwen tussen13 en 15u.
DESCRIPTION:Elke maandag opent de vernieuwde huiskamer aan de Bekerakker ( achterkant Unitas aan de Vlokhovense weg) haar deuren voor alle vrouwen uit Vlokhoven en het Hool die zin hebben in een praatje. Een plek om elkaar te ontmoeten onder het genot van een kopje koffie of thee
URL:https://hethool.nl/evenement/open-inloop-voor-vrouwen-tussen13-en-15u/2026-05-25/
CATEGORIES:Huiskamer
ATTACH;FMTTYPE=image/png:https://hethool.nl/wp-content/uploads/2026/03/file_00000000c45c724681151075fc3c25e7.png
END:VEVENT
BEGIN:VEVENT
DTSTART;TZID=Europe/Amsterdam:20260601T130000
DTEND;TZID=Europe/Amsterdam:20260601T150000
DTSTAMP:20260420T023129
CREATED:20260304T191719Z
LAST-MODIFIED:20260304T191719Z
UID:10005374-1780318800-1780326000@hethool.nl
SUMMARY:open inloop voor vrouwen tussen13 en 15u.
DESCRIPTION:Elke maandag opent de vernieuwde huiskamer aan de Bekerakker ( achterkant Unitas aan de Vlokhovense weg) haar deuren voor alle vrouwen uit Vlokhoven en het Hool die zin hebben in een praatje. Een plek om elkaar te ontmoeten onder het genot van een kopje koffie of thee
URL:https://hethool.nl/evenement/open-inloop-voor-vrouwen-tussen13-en-15u/2026-06-01/
CATEGORIES:Huiskamer
ATTACH;FMTTYPE=image/png:https://hethool.nl/wp-content/uploads/2026/03/file_00000000c45c724681151075fc3c25e7.png
END:VEVENT
BEGIN:VEVENT
DTSTART;TZID=Europe/Amsterdam:20260608T130000
DTEND;TZID=Europe/Amsterdam:20260608T150000
DTSTAMP:20260420T023129
CREATED:20260304T191719Z
LAST-MODIFIED:20260304T191719Z
UID:10005375-1780923600-1780930800@hethool.nl
SUMMARY:open inloop voor vrouwen tussen13 en 15u.
DESCRIPTION:Elke maandag opent de vernieuwde huiskamer aan de Bekerakker ( achterkant Unitas aan de Vlokhovense weg) haar deuren voor alle vrouwen uit Vlokhoven en het Hool die zin hebben in een praatje. Een plek om elkaar te ontmoeten onder het genot van een kopje koffie of thee
URL:https://hethool.nl/evenement/open-inloop-voor-vrouwen-tussen13-en-15u/2026-06-08/
CATEGORIES:Huiskamer
ATTACH;FMTTYPE=image/png:https://hethool.nl/wp-content/uploads/2026/03/file_00000000c45c724681151075fc3c25e7.png
END:VEVENT
BEGIN:VEVENT
DTSTART;TZID=Europe/Amsterdam:20260615T130000
DTEND;TZID=Europe/Amsterdam:20260615T150000
DTSTAMP:20260420T023129
CREATED:20260304T191719Z
LAST-MODIFIED:20260304T191719Z
UID:10005376-1781528400-1781535600@hethool.nl
SUMMARY:open inloop voor vrouwen tussen13 en 15u.
DESCRIPTION:Elke maandag opent de vernieuwde huiskamer aan de Bekerakker ( achterkant Unitas aan de Vlokhovense weg) haar deuren voor alle vrouwen uit Vlokhoven en het Hool die zin hebben in een praatje. Een plek om elkaar te ontmoeten onder het genot van een kopje koffie of thee
URL:https://hethool.nl/evenement/open-inloop-voor-vrouwen-tussen13-en-15u/2026-06-15/
CATEGORIES:Huiskamer
ATTACH;FMTTYPE=image/png:https://hethool.nl/wp-content/uploads/2026/03/file_00000000c45c724681151075fc3c25e7.png
END:VEVENT
BEGIN:VEVENT
DTSTART;TZID=Europe/Amsterdam:20260622T130000
DTEND;TZID=Europe/Amsterdam:20260622T150000
DTSTAMP:20260420T023129
CREATED:20260304T191719Z
LAST-MODIFIED:20260304T191719Z
UID:10005377-1782133200-1782140400@hethool.nl
SUMMARY:open inloop voor vrouwen tussen13 en 15u.
DESCRIPTION:Elke maandag opent de vernieuwde huiskamer aan de Bekerakker ( achterkant Unitas aan de Vlokhovense weg) haar deuren voor alle vrouwen uit Vlokhoven en het Hool die zin hebben in een praatje. Een plek om elkaar te ontmoeten onder het genot van een kopje koffie of thee
URL:https://hethool.nl/evenement/open-inloop-voor-vrouwen-tussen13-en-15u/2026-06-22/
CATEGORIES:Huiskamer
ATTACH;FMTTYPE=image/png:https://hethool.nl/wp-content/uploads/2026/03/file_00000000c45c724681151075fc3c25e7.png
END:VEVENT
BEGIN:VEVENT
DTSTART;TZID=Europe/Amsterdam:20260629T130000
DTEND;TZID=Europe/Amsterdam:20260629T150000
DTSTAMP:20260420T023129
CREATED:20260304T191719Z
LAST-MODIFIED:20260304T191719Z
UID:10005378-1782738000-1782745200@hethool.nl
SUMMARY:open inloop voor vrouwen tussen13 en 15u.
DESCRIPTION:Elke maandag opent de vernieuwde huiskamer aan de Bekerakker ( achterkant Unitas aan de Vlokhovense weg) haar deuren voor alle vrouwen uit Vlokhoven en het Hool die zin hebben in een praatje. Een plek om elkaar te ontmoeten onder het genot van een kopje koffie of thee
URL:https://hethool.nl/evenement/open-inloop-voor-vrouwen-tussen13-en-15u/2026-06-29/
CATEGORIES:Huiskamer
ATTACH;FMTTYPE=image/png:https://hethool.nl/wp-content/uploads/2026/03/file_00000000c45c724681151075fc3c25e7.png
END:VEVENT
BEGIN:VEVENT
DTSTART;TZID=Europe/Amsterdam:20260706T130000
DTEND;TZID=Europe/Amsterdam:20260706T150000
DTSTAMP:20260420T023129
CREATED:20260304T191719Z
LAST-MODIFIED:20260304T191719Z
UID:10005379-1783342800-1783350000@hethool.nl
SUMMARY:open inloop voor vrouwen tussen13 en 15u.
DESCRIPTION:Elke maandag opent de vernieuwde huiskamer aan de Bekerakker ( achterkant Unitas aan de Vlokhovense weg) haar deuren voor alle vrouwen uit Vlokhoven en het Hool die zin hebben in een praatje. Een plek om elkaar te ontmoeten onder het genot van een kopje koffie of thee
URL:https://hethool.nl/evenement/open-inloop-voor-vrouwen-tussen13-en-15u/2026-07-06/
CATEGORIES:Huiskamer
ATTACH;FMTTYPE=image/png:https://hethool.nl/wp-content/uploads/2026/03/file_00000000c45c724681151075fc3c25e7.png
END:VEVENT
BEGIN:VEVENT
DTSTART;TZID=Europe/Amsterdam:20260713T130000
DTEND;TZID=Europe/Amsterdam:20260713T150000
DTSTAMP:20260420T023129
CREATED:20260304T191719Z
LAST-MODIFIED:20260304T191719Z
UID:10005380-1783947600-1783954800@hethool.nl
SUMMARY:open inloop voor vrouwen tussen13 en 15u.
DESCRIPTION:Elke maandag opent de vernieuwde huiskamer aan de Bekerakker ( achterkant Unitas aan de Vlokhovense weg) haar deuren voor alle vrouwen uit Vlokhoven en het Hool die zin hebben in een praatje. Een plek om elkaar te ontmoeten onder het genot van een kopje koffie of thee
URL:https://hethool.nl/evenement/open-inloop-voor-vrouwen-tussen13-en-15u/2026-07-13/
CATEGORIES:Huiskamer
ATTACH;FMTTYPE=image/png:https://hethool.nl/wp-content/uploads/2026/03/file_00000000c45c724681151075fc3c25e7.png
END:VEVENT
BEGIN:VEVENT
DTSTART;TZID=Europe/Amsterdam:20260720T130000
DTEND;TZID=Europe/Amsterdam:20260720T150000
DTSTAMP:20260420T023129
CREATED:20260304T191719Z
LAST-MODIFIED:20260304T191719Z
UID:10005381-1784552400-1784559600@hethool.nl
SUMMARY:open inloop voor vrouwen tussen13 en 15u.
DESCRIPTION:Elke maandag opent de vernieuwde huiskamer aan de Bekerakker ( achterkant Unitas aan de Vlokhovense weg) haar deuren voor alle vrouwen uit Vlokhoven en het Hool die zin hebben in een praatje. Een plek om elkaar te ontmoeten onder het genot van een kopje koffie of thee
URL:https://hethool.nl/evenement/open-inloop-voor-vrouwen-tussen13-en-15u/2026-07-20/
CATEGORIES:Huiskamer
ATTACH;FMTTYPE=image/png:https://hethool.nl/wp-content/uploads/2026/03/file_00000000c45c724681151075fc3c25e7.png
END:VEVENT
BEGIN:VEVENT
DTSTART;TZID=Europe/Amsterdam:20260727T130000
DTEND;TZID=Europe/Amsterdam:20260727T150000
DTSTAMP:20260420T023129
CREATED:20260304T191719Z
LAST-MODIFIED:20260304T191719Z
UID:10005382-1785157200-1785164400@hethool.nl
SUMMARY:open inloop voor vrouwen tussen13 en 15u.
DESCRIPTION:Elke maandag opent de vernieuwde huiskamer aan de Bekerakker ( achterkant Unitas aan de Vlokhovense weg) haar deuren voor alle vrouwen uit Vlokhoven en het Hool die zin hebben in een praatje. Een plek om elkaar te ontmoeten onder het genot van een kopje koffie of thee
URL:https://hethool.nl/evenement/open-inloop-voor-vrouwen-tussen13-en-15u/2026-07-27/
CATEGORIES:Huiskamer
ATTACH;FMTTYPE=image/png:https://hethool.nl/wp-content/uploads/2026/03/file_00000000c45c724681151075fc3c25e7.png
END:VEVENT
BEGIN:VEVENT
DTSTART;TZID=Europe/Amsterdam:20260803T130000
DTEND;TZID=Europe/Amsterdam:20260803T150000
DTSTAMP:20260420T023129
CREATED:20260304T191719Z
LAST-MODIFIED:20260304T191719Z
UID:10005383-1785762000-1785769200@hethool.nl
SUMMARY:open inloop voor vrouwen tussen13 en 15u.
DESCRIPTION:Elke maandag opent de vernieuwde huiskamer aan de Bekerakker ( achterkant Unitas aan de Vlokhovense weg) haar deuren voor alle vrouwen uit Vlokhoven en het Hool die zin hebben in een praatje. Een plek om elkaar te ontmoeten onder het genot van een kopje koffie of thee
URL:https://hethool.nl/evenement/open-inloop-voor-vrouwen-tussen13-en-15u/2026-08-03/
CATEGORIES:Huiskamer
ATTACH;FMTTYPE=image/png:https://hethool.nl/wp-content/uploads/2026/03/file_00000000c45c724681151075fc3c25e7.png
END:VEVENT
BEGIN:VEVENT
DTSTART;TZID=Europe/Amsterdam:20260810T130000
DTEND;TZID=Europe/Amsterdam:20260810T150000
DTSTAMP:20260420T023129
CREATED:20260304T191719Z
LAST-MODIFIED:20260304T191719Z
UID:10005384-1786366800-1786374000@hethool.nl
SUMMARY:open inloop voor vrouwen tussen13 en 15u.
DESCRIPTION:Elke maandag opent de vernieuwde huiskamer aan de Bekerakker ( achterkant Unitas aan de Vlokhovense weg) haar deuren voor alle vrouwen uit Vlokhoven en het Hool die zin hebben in een praatje. Een plek om elkaar te ontmoeten onder het genot van een kopje koffie of thee
URL:https://hethool.nl/evenement/open-inloop-voor-vrouwen-tussen13-en-15u/2026-08-10/
CATEGORIES:Huiskamer
ATTACH;FMTTYPE=image/png:https://hethool.nl/wp-content/uploads/2026/03/file_00000000c45c724681151075fc3c25e7.png
END:VEVENT
BEGIN:VEVENT
DTSTART;TZID=Europe/Amsterdam:20260817T130000
DTEND;TZID=Europe/Amsterdam:20260817T150000
DTSTAMP:20260420T023129
CREATED:20260304T191719Z
LAST-MODIFIED:20260304T191719Z
UID:10005385-1786971600-1786978800@hethool.nl
SUMMARY:open inloop voor vrouwen tussen13 en 15u.
DESCRIPTION:Elke maandag opent de vernieuwde huiskamer aan de Bekerakker ( achterkant Unitas aan de Vlokhovense weg) haar deuren voor alle vrouwen uit Vlokhoven en het Hool die zin hebben in een praatje. Een plek om elkaar te ontmoeten onder het genot van een kopje koffie of thee
URL:https://hethool.nl/evenement/open-inloop-voor-vrouwen-tussen13-en-15u/2026-08-17/
CATEGORIES:Huiskamer
ATTACH;FMTTYPE=image/png:https://hethool.nl/wp-content/uploads/2026/03/file_00000000c45c724681151075fc3c25e7.png
END:VEVENT
BEGIN:VEVENT
DTSTART;TZID=Europe/Amsterdam:20260824T130000
DTEND;TZID=Europe/Amsterdam:20260824T150000
DTSTAMP:20260420T023129
CREATED:20260304T191719Z
LAST-MODIFIED:20260304T191719Z
UID:10005386-1787576400-1787583600@hethool.nl
SUMMARY:open inloop voor vrouwen tussen13 en 15u.
DESCRIPTION:Elke maandag opent de vernieuwde huiskamer aan de Bekerakker ( achterkant Unitas aan de Vlokhovense weg) haar deuren voor alle vrouwen uit Vlokhoven en het Hool die zin hebben in een praatje. Een plek om elkaar te ontmoeten onder het genot van een kopje koffie of thee
URL:https://hethool.nl/evenement/open-inloop-voor-vrouwen-tussen13-en-15u/2026-08-24/
CATEGORIES:Huiskamer
ATTACH;FMTTYPE=image/png:https://hethool.nl/wp-content/uploads/2026/03/file_00000000c45c724681151075fc3c25e7.png
END:VEVENT
BEGIN:VEVENT
DTSTART;TZID=Europe/Amsterdam:20260831T130000
DTEND;TZID=Europe/Amsterdam:20260831T150000
DTSTAMP:20260420T023129
CREATED:20260304T191719Z
LAST-MODIFIED:20260304T191719Z
UID:10005387-1788181200-1788188400@hethool.nl
SUMMARY:open inloop voor vrouwen tussen13 en 15u.
DESCRIPTION:Elke maandag opent de vernieuwde huiskamer aan de Bekerakker ( achterkant Unitas aan de Vlokhovense weg) haar deuren voor alle vrouwen uit Vlokhoven en het Hool die zin hebben in een praatje. Een plek om elkaar te ontmoeten onder het genot van een kopje koffie of thee
URL:https://hethool.nl/evenement/open-inloop-voor-vrouwen-tussen13-en-15u/2026-08-31/
CATEGORIES:Huiskamer
ATTACH;FMTTYPE=image/png:https://hethool.nl/wp-content/uploads/2026/03/file_00000000c45c724681151075fc3c25e7.png
END:VEVENT
BEGIN:VEVENT
DTSTART;TZID=Europe/Amsterdam:20260907T130000
DTEND;TZID=Europe/Amsterdam:20260907T150000
DTSTAMP:20260420T023129
CREATED:20260304T191719Z
LAST-MODIFIED:20260304T191719Z
UID:10005388-1788786000-1788793200@hethool.nl
SUMMARY:open inloop voor vrouwen tussen13 en 15u.
DESCRIPTION:Elke maandag opent de vernieuwde huiskamer aan de Bekerakker ( achterkant Unitas aan de Vlokhovense weg) haar deuren voor alle vrouwen uit Vlokhoven en het Hool die zin hebben in een praatje. Een plek om elkaar te ontmoeten onder het genot van een kopje koffie of thee
URL:https://hethool.nl/evenement/open-inloop-voor-vrouwen-tussen13-en-15u/2026-09-07/
CATEGORIES:Huiskamer
ATTACH;FMTTYPE=image/png:https://hethool.nl/wp-content/uploads/2026/03/file_00000000c45c724681151075fc3c25e7.png
END:VEVENT
BEGIN:VEVENT
DTSTART;TZID=Europe/Amsterdam:20260914T130000
DTEND;TZID=Europe/Amsterdam:20260914T150000
DTSTAMP:20260420T023129
CREATED:20260304T191719Z
LAST-MODIFIED:20260304T191719Z
UID:10005389-1789390800-1789398000@hethool.nl
SUMMARY:open inloop voor vrouwen tussen13 en 15u.
DESCRIPTION:Elke maandag opent de vernieuwde huiskamer aan de Bekerakker ( achterkant Unitas aan de Vlokhovense weg) haar deuren voor alle vrouwen uit Vlokhoven en het Hool die zin hebben in een praatje. Een plek om elkaar te ontmoeten onder het genot van een kopje koffie of thee
URL:https://hethool.nl/evenement/open-inloop-voor-vrouwen-tussen13-en-15u/2026-09-14/
CATEGORIES:Huiskamer
ATTACH;FMTTYPE=image/png:https://hethool.nl/wp-content/uploads/2026/03/file_00000000c45c724681151075fc3c25e7.png
END:VEVENT
BEGIN:VEVENT
DTSTART;TZID=Europe/Amsterdam:20260921T130000
DTEND;TZID=Europe/Amsterdam:20260921T150000
DTSTAMP:20260420T023129
CREATED:20260304T191719Z
LAST-MODIFIED:20260304T191719Z
UID:10005390-1789995600-1790002800@hethool.nl
SUMMARY:open inloop voor vrouwen tussen13 en 15u.
DESCRIPTION:Elke maandag opent de vernieuwde huiskamer aan de Bekerakker ( achterkant Unitas aan de Vlokhovense weg) haar deuren voor alle vrouwen uit Vlokhoven en het Hool die zin hebben in een praatje. Een plek om elkaar te ontmoeten onder het genot van een kopje koffie of thee
URL:https://hethool.nl/evenement/open-inloop-voor-vrouwen-tussen13-en-15u/2026-09-21/
CATEGORIES:Huiskamer
ATTACH;FMTTYPE=image/png:https://hethool.nl/wp-content/uploads/2026/03/file_00000000c45c724681151075fc3c25e7.png
END:VEVENT
BEGIN:VEVENT
DTSTART;TZID=Europe/Amsterdam:20260928T130000
DTEND;TZID=Europe/Amsterdam:20260928T150000
DTSTAMP:20260420T023129
CREATED:20260304T191719Z
LAST-MODIFIED:20260304T191719Z
UID:10005391-1790600400-1790607600@hethool.nl
SUMMARY:open inloop voor vrouwen tussen13 en 15u.
DESCRIPTION:Elke maandag opent de vernieuwde huiskamer aan de Bekerakker ( achterkant Unitas aan de Vlokhovense weg) haar deuren voor alle vrouwen uit Vlokhoven en het Hool die zin hebben in een praatje. Een plek om elkaar te ontmoeten onder het genot van een kopje koffie of thee
URL:https://hethool.nl/evenement/open-inloop-voor-vrouwen-tussen13-en-15u/2026-09-28/
CATEGORIES:Huiskamer
ATTACH;FMTTYPE=image/png:https://hethool.nl/wp-content/uploads/2026/03/file_00000000c45c724681151075fc3c25e7.png
END:VEVENT
BEGIN:VEVENT
DTSTART;TZID=Europe/Amsterdam:20261005T130000
DTEND;TZID=Europe/Amsterdam:20261005T150000
DTSTAMP:20260420T023129
CREATED:20260304T191719Z
LAST-MODIFIED:20260304T191719Z
UID:10005392-1791205200-1791212400@hethool.nl
SUMMARY:open inloop voor vrouwen tussen13 en 15u.
DESCRIPTION:Elke maandag opent de vernieuwde huiskamer aan de Bekerakker ( achterkant Unitas aan de Vlokhovense weg) haar deuren voor alle vrouwen uit Vlokhoven en het Hool die zin hebben in een praatje. Een plek om elkaar te ontmoeten onder het genot van een kopje koffie of thee
URL:https://hethool.nl/evenement/open-inloop-voor-vrouwen-tussen13-en-15u/2026-10-05/
CATEGORIES:Huiskamer
ATTACH;FMTTYPE=image/png:https://hethool.nl/wp-content/uploads/2026/03/file_00000000c45c724681151075fc3c25e7.png
END:VEVENT
BEGIN:VEVENT
DTSTART;TZID=Europe/Amsterdam:20261012T130000
DTEND;TZID=Europe/Amsterdam:20261012T150000
DTSTAMP:20260420T023129
CREATED:20260304T191719Z
LAST-MODIFIED:20260304T191719Z
UID:10005393-1791810000-1791817200@hethool.nl
SUMMARY:open inloop voor vrouwen tussen13 en 15u.
DESCRIPTION:Elke maandag opent de vernieuwde huiskamer aan de Bekerakker ( achterkant Unitas aan de Vlokhovense weg) haar deuren voor alle vrouwen uit Vlokhoven en het Hool die zin hebben in een praatje. Een plek om elkaar te ontmoeten onder het genot van een kopje koffie of thee
URL:https://hethool.nl/evenement/open-inloop-voor-vrouwen-tussen13-en-15u/2026-10-12/
CATEGORIES:Huiskamer
ATTACH;FMTTYPE=image/png:https://hethool.nl/wp-content/uploads/2026/03/file_00000000c45c724681151075fc3c25e7.png
END:VEVENT
BEGIN:VEVENT
DTSTART;TZID=Europe/Amsterdam:20261019T130000
DTEND;TZID=Europe/Amsterdam:20261019T150000
DTSTAMP:20260420T023129
CREATED:20260304T191719Z
LAST-MODIFIED:20260304T191719Z
UID:10005394-1792414800-1792422000@hethool.nl
SUMMARY:open inloop voor vrouwen tussen13 en 15u.
DESCRIPTION:Elke maandag opent de vernieuwde huiskamer aan de Bekerakker ( achterkant Unitas aan de Vlokhovense weg) haar deuren voor alle vrouwen uit Vlokhoven en het Hool die zin hebben in een praatje. Een plek om elkaar te ontmoeten onder het genot van een kopje koffie of thee
URL:https://hethool.nl/evenement/open-inloop-voor-vrouwen-tussen13-en-15u/2026-10-19/
CATEGORIES:Huiskamer
ATTACH;FMTTYPE=image/png:https://hethool.nl/wp-content/uploads/2026/03/file_00000000c45c724681151075fc3c25e7.png
END:VEVENT
BEGIN:VEVENT
DTSTART;TZID=Europe/Amsterdam:20261026T130000
DTEND;TZID=Europe/Amsterdam:20261026T150000
DTSTAMP:20260420T023129
CREATED:20260304T191719Z
LAST-MODIFIED:20260304T191719Z
UID:10005395-1793019600-1793026800@hethool.nl
SUMMARY:open inloop voor vrouwen tussen13 en 15u.
DESCRIPTION:Elke maandag opent de vernieuwde huiskamer aan de Bekerakker ( achterkant Unitas aan de Vlokhovense weg) haar deuren voor alle vrouwen uit Vlokhoven en het Hool die zin hebben in een praatje. Een plek om elkaar te ontmoeten onder het genot van een kopje koffie of thee
URL:https://hethool.nl/evenement/open-inloop-voor-vrouwen-tussen13-en-15u/2026-10-26/
CATEGORIES:Huiskamer
ATTACH;FMTTYPE=image/png:https://hethool.nl/wp-content/uploads/2026/03/file_00000000c45c724681151075fc3c25e7.png
END:VEVENT
BEGIN:VEVENT
DTSTART;TZID=Europe/Amsterdam:20261102T130000
DTEND;TZID=Europe/Amsterdam:20261102T150000
DTSTAMP:20260420T023129
CREATED:20260304T191719Z
LAST-MODIFIED:20260304T191719Z
UID:10005396-1793624400-1793631600@hethool.nl
SUMMARY:open inloop voor vrouwen tussen13 en 15u.
DESCRIPTION:Elke maandag opent de vernieuwde huiskamer aan de Bekerakker ( achterkant Unitas aan de Vlokhovense weg) haar deuren voor alle vrouwen uit Vlokhoven en het Hool die zin hebben in een praatje. Een plek om elkaar te ontmoeten onder het genot van een kopje koffie of thee
URL:https://hethool.nl/evenement/open-inloop-voor-vrouwen-tussen13-en-15u/2026-11-02/
CATEGORIES:Huiskamer
ATTACH;FMTTYPE=image/png:https://hethool.nl/wp-content/uploads/2026/03/file_00000000c45c724681151075fc3c25e7.png
END:VEVENT
BEGIN:VEVENT
DTSTART;TZID=Europe/Amsterdam:20261109T130000
DTEND;TZID=Europe/Amsterdam:20261109T150000
DTSTAMP:20260420T023129
CREATED:20260304T191719Z
LAST-MODIFIED:20260304T191719Z
UID:10005397-1794229200-1794236400@hethool.nl
SUMMARY:open inloop voor vrouwen tussen13 en 15u.
DESCRIPTION:Elke maandag opent de vernieuwde huiskamer aan de Bekerakker ( achterkant Unitas aan de Vlokhovense weg) haar deuren voor alle vrouwen uit Vlokhoven en het Hool die zin hebben in een praatje. Een plek om elkaar te ontmoeten onder het genot van een kopje koffie of thee
URL:https://hethool.nl/evenement/open-inloop-voor-vrouwen-tussen13-en-15u/2026-11-09/
CATEGORIES:Huiskamer
ATTACH;FMTTYPE=image/png:https://hethool.nl/wp-content/uploads/2026/03/file_00000000c45c724681151075fc3c25e7.png
END:VEVENT
END:VCALENDAR