BEGIN:VCALENDAR
VERSION:2.0
PRODID:-//Team t Hool - ECPv6.15.20//NONSGML v1.0//EN
CALSCALE:GREGORIAN
METHOD:PUBLISH
X-WR-CALNAME:Team t Hool
X-ORIGINAL-URL:https://hethool.nl
X-WR-CALDESC:Evenementen voor Team t Hool
REFRESH-INTERVAL;VALUE=DURATION:PT1H
X-Robots-Tag:noindex
X-PUBLISHED-TTL:PT1H
BEGIN:VTIMEZONE
TZID:Europe/Amsterdam
BEGIN:DAYLIGHT
TZOFFSETFROM:+0100
TZOFFSETTO:+0200
TZNAME:CEST
DTSTART:20290325T010000
END:DAYLIGHT
BEGIN:STANDARD
TZOFFSETFROM:+0200
TZOFFSETTO:+0100
TZNAME:CET
DTSTART:20291028T010000
END:STANDARD
BEGIN:DAYLIGHT
TZOFFSETFROM:+0100
TZOFFSETTO:+0200
TZNAME:CEST
DTSTART:20300331T010000
END:DAYLIGHT
BEGIN:STANDARD
TZOFFSETFROM:+0200
TZOFFSETTO:+0100
TZNAME:CET
DTSTART:20301027T010000
END:STANDARD
BEGIN:DAYLIGHT
TZOFFSETFROM:+0100
TZOFFSETTO:+0200
TZNAME:CEST
DTSTART:20310330T010000
END:DAYLIGHT
BEGIN:STANDARD
TZOFFSETFROM:+0200
TZOFFSETTO:+0100
TZNAME:CET
DTSTART:20311026T010000
END:STANDARD
END:VTIMEZONE
BEGIN:VEVENT
DTSTART;TZID=Europe/Amsterdam:20300930T130000
DTEND;TZID=Europe/Amsterdam:20300930T150000
DTSTAMP:20260425T175941
CREATED:20260304T191719Z
LAST-MODIFIED:20260304T191719Z
UID:10005600-1917003600-1917010800@hethool.nl
SUMMARY:open inloop voor vrouwen tussen13 en 15u.
DESCRIPTION:Elke maandag opent de vernieuwde huiskamer aan de Bekerakker ( achterkant Unitas aan de Vlokhovense weg) haar deuren voor alle vrouwen uit Vlokhoven en het Hool die zin hebben in een praatje. Een plek om elkaar te ontmoeten onder het genot van een kopje koffie of thee
URL:https://hethool.nl/evenement/open-inloop-voor-vrouwen-tussen13-en-15u/2030-09-30/
CATEGORIES:Huiskamer
ATTACH;FMTTYPE=image/png:https://hethool.nl/wp-content/uploads/2026/03/file_00000000c45c724681151075fc3c25e7.png
END:VEVENT
BEGIN:VEVENT
DTSTART;TZID=Europe/Amsterdam:20301002T190000
DTEND;TZID=Europe/Amsterdam:20301002T220000
DTSTAMP:20260425T175941
CREATED:20260225T183258Z
LAST-MODIFIED:20260225T184115Z
UID:10005109-1917198000-1917208800@hethool.nl
SUMMARY:Open Inloop in de Huiskamer
DESCRIPTION:Woensdagavond = Open Inloop Huiskamer-avond! 💬☕\nIedere woensdag van 19:00 tot 22:00 uur is De Huiskamer open voor bewoners.  Een avond waar plannen worden gemaakt\, ideeën ontstaan en waar iedereen welkom is om mee te denken of mee te doen. Of je nu actief wilt bijdragen aan de wijk\, een goed idee hebt\, nieuwsgierig bent naar wat er speelt of gewoon zin hebt in een gezellig gesprek: schuif lekker aan. \nGeen verplichtingen\, geen drempels maar wél betrokkenheid\, gezelligheid en samen bouwen aan de buurt. \nLoop gerust binnen\, de koffie staat klaar ☕💛
URL:https://hethool.nl/evenement/open-inloop/2030-10-02/
LOCATION:De Huiskamer\, De Bekerakker\, Eindhoven\, Nederland
CATEGORIES:Huiskamer,Team Meeting
ATTACH;FMTTYPE=image/jpeg:https://hethool.nl/wp-content/uploads/2025/12/929072E9-0E11-438C-B379-AF7516C94027_1_105_c.jpeg
ORGANIZER;CN="Team 't Hool":MAILTO:info@hethool.nl
GEO:51.471279;5.483991
X-APPLE-STRUCTURED-LOCATION;VALUE=URI;X-ADDRESS=De Huiskamer De Bekerakker Eindhoven Nederland;X-APPLE-RADIUS=500;X-TITLE=De Bekerakker:geo:5.483991,51.471279
END:VEVENT
BEGIN:VEVENT
DTSTART;TZID=Europe/Amsterdam:20301003T180000
DTEND;TZID=Europe/Amsterdam:20301003T210000
DTSTAMP:20260425T175941
CREATED:20250610T180556Z
LAST-MODIFIED:20260225T191850Z
UID:10005177-1917280800-1917291600@hethool.nl
SUMMARY:Multiculturele Kookclub
DESCRIPTION:Multiculturele Kookclub\n🍽️ Kookliefhebbers opgelet! 🌍\nHeb jij een passie voor koken en wil je nieuwe culturen en smaken ontdekken? Doe mee met de Multiculturele Kookclub! \n📅 Elke eerste donderdag van de maand\n🕕 18.00 – 21.00 uur\n📍 De Huiskamer Vlokhoven \nWe koken samen\, leren van elkaars keukens én genieten van heerlijk eten. Van Syrisch tot Surinaams\, van Italiaans tot Indisch – alle smaken zijn welkom! \n👉 Aanmelden via deze link \n🔪 Kom mee snijden\, roeren\, proeven en verbinden! \nKlik voor de flyer:
URL:https://hethool.nl/evenement/multiculturele-kookclub/2030-10-03/
LOCATION:De Huiskamer\, De Bekerakker\, Eindhoven\, Nederland
CATEGORIES:Huiskamer,Kookclub Multi Culti
ATTACH;FMTTYPE=image/jpeg:https://hethool.nl/wp-content/uploads/2025/06/Multiculti.jpg
ORGANIZER;CN="Team 't Hool":MAILTO:info@hethool.nl
GEO:51.471279;5.483991
X-APPLE-STRUCTURED-LOCATION;VALUE=URI;X-ADDRESS=De Huiskamer De Bekerakker Eindhoven Nederland;X-APPLE-RADIUS=500;X-TITLE=De Bekerakker:geo:5.483991,51.471279
END:VEVENT
END:VCALENDAR