BEGIN:VCALENDAR
VERSION:2.0
PRODID:-//Team t Hool - ECPv6.15.20//NONSGML v1.0//EN
CALSCALE:GREGORIAN
METHOD:PUBLISH
X-WR-CALNAME:Team t Hool
X-ORIGINAL-URL:https://hethool.nl
X-WR-CALDESC:Evenementen voor Team t Hool
REFRESH-INTERVAL;VALUE=DURATION:PT1H
X-Robots-Tag:noindex
X-PUBLISHED-TTL:PT1H
BEGIN:VTIMEZONE
TZID:Europe/Amsterdam
BEGIN:DAYLIGHT
TZOFFSETFROM:+0100
TZOFFSETTO:+0200
TZNAME:CEST
DTSTART:20250330T010000
END:DAYLIGHT
BEGIN:STANDARD
TZOFFSETFROM:+0200
TZOFFSETTO:+0100
TZNAME:CET
DTSTART:20251026T010000
END:STANDARD
BEGIN:DAYLIGHT
TZOFFSETFROM:+0100
TZOFFSETTO:+0200
TZNAME:CEST
DTSTART:20260329T010000
END:DAYLIGHT
BEGIN:STANDARD
TZOFFSETFROM:+0200
TZOFFSETTO:+0100
TZNAME:CET
DTSTART:20261025T010000
END:STANDARD
BEGIN:DAYLIGHT
TZOFFSETFROM:+0100
TZOFFSETTO:+0200
TZNAME:CEST
DTSTART:20270328T010000
END:DAYLIGHT
BEGIN:STANDARD
TZOFFSETFROM:+0200
TZOFFSETTO:+0100
TZNAME:CET
DTSTART:20271031T010000
END:STANDARD
END:VTIMEZONE
BEGIN:VEVENT
DTSTART;TZID=Europe/Amsterdam:20260420T130000
DTEND;TZID=Europe/Amsterdam:20260420T150000
DTSTAMP:20260420T022304
CREATED:20260304T191719Z
LAST-MODIFIED:20260304T191719Z
UID:10005368-1776690000-1776697200@hethool.nl
SUMMARY:open inloop voor vrouwen tussen13 en 15u.
DESCRIPTION:Elke maandag opent de vernieuwde huiskamer aan de Bekerakker ( achterkant Unitas aan de Vlokhovense weg) haar deuren voor alle vrouwen uit Vlokhoven en het Hool die zin hebben in een praatje. Een plek om elkaar te ontmoeten onder het genot van een kopje koffie of thee
URL:https://hethool.nl/evenement/open-inloop-voor-vrouwen-tussen13-en-15u/2026-04-20/
CATEGORIES:Huiskamer
ATTACH;FMTTYPE=image/png:https://hethool.nl/wp-content/uploads/2026/03/file_00000000c45c724681151075fc3c25e7.png
END:VEVENT
BEGIN:VEVENT
DTSTART;TZID=Europe/Amsterdam:20260420T133000
DTEND;TZID=Europe/Amsterdam:20260420T163000
DTSTAMP:20260420T022304
CREATED:20260309T103619Z
LAST-MODIFIED:20260309T103620Z
UID:10004421-1776691800-1776702600@hethool.nl
SUMMARY:Creatieve Middag in het Ankerpunt van Vitalis
DESCRIPTION:Creatieve Middag\nBen je graag creatief bezig? Kom dan gezellig langs!\nEr zijn allerlei materialen aanwezig maar je mag ook zelf iets meebrengen.\nDe aangeboden activiteit wisselt per week\, voor meer informatie bel Bernadette 06 34 65 52 14 \nWaar: Jurriaan Pels Wooncentrum\, Geestakker 46\, ingang buitenom via de rode deur \nGratis deelname
URL:https://hethool.nl/evenement/creatieve-middag-in-het-ankerpunt-van-vitalis-2/2026-04-20/
LOCATION:Jurriaan Pels Wooncentrum\, Geestakker 46\, Eindhoven\, 5625 XA\, Nederland
CATEGORIES:Jurriaan Pels Wooncentrum
ATTACH;FMTTYPE=image/jpeg:https://hethool.nl/wp-content/uploads/2025/11/creatieve-middag.jpg
ORGANIZER;CN="Vitalis Ankerpunt voor de Wijk Jurriaan Pels":MAILTO:b.vande.braak@vitalisgroep.nl
END:VEVENT
BEGIN:VEVENT
DTSTART;TZID=Europe/Amsterdam:20260420T190000
DTEND;TZID=Europe/Amsterdam:20260420T203000
DTSTAMP:20260420T022304
CREATED:20250621T125429Z
LAST-MODIFIED:20250621T125432Z
UID:10003202-1776711600-1776717000@hethool.nl
SUMMARY:IN DE BUURT: Samen wandelen op maandag: gezond groen en gratis!
DESCRIPTION:SAMEN WANDELEN: GEZOND\, GEZELLIG\, GROEN EN GRATIS! \nDaarom maken buurtgenoten iedere maandagavond vanaf 19.00u en iedere donderdagavond vanaf 20.00u een lekker ommetje. Ontspannend\, verkwikkend\, en bovenal\, in goed gezelschap. \nWe vertrekken vanaf Speelpark de Splinter en verkennen de prachtige groene paden van het Henri Dunant Park en onze charmante wijk Blixembosch. Herkenbaar aan onze vrolijke roze hesjes met het YvYa logo\, nodigen we je uit om deel te nemen aan dit gezonde en verbindende initiatief. \nEen Geweldige Gewoonte \nWat begon als een voorbereiding voor de Midzomeravond wandeltocht\, is uitgegroeid tot een geliefd ritueel. We laten ons niet afschrikken door weer of wind – elke stap telt! Iedereen is welkom om zich vrijblijvend aan te sluiten of af en toe mee te doen. \nLet op: In de zomertijd starten we op donderdag om 20:00u en in de wintertijd om 19:30u. \nMeer info: \nStichting YvYa\nPaulette Kreté\n06-14457982\npaulette.krete@yvya.nl
URL:https://hethool.nl/evenement/in-de-buurt-samen-wandelen-op-donderdag-gezond-groen-en-gratis-3-2-2/2026-04-20/
LOCATION:Speelpark de Splinter\, Rode Kruislaan 2\, Eindhoven\, Noord Brabant\, 5628 GM\, Nederland
CATEGORIES:In de Buurt!
ATTACH;FMTTYPE=image/png:https://hethool.nl/wp-content/uploads/2024/05/Wandeltocht.png
ORGANIZER;CN="Stichting YvYa":MAILTO:paulette.krete@yvya.nl
END:VEVENT
END:VCALENDAR