BEGIN:VCALENDAR
VERSION:2.0
PRODID:-//Team t Hool - ECPv6.15.20//NONSGML v1.0//EN
CALSCALE:GREGORIAN
METHOD:PUBLISH
X-WR-CALNAME:Team t Hool
X-ORIGINAL-URL:https://hethool.nl
X-WR-CALDESC:Evenementen voor Team t Hool
REFRESH-INTERVAL;VALUE=DURATION:PT1H
X-Robots-Tag:noindex
X-PUBLISHED-TTL:PT1H
BEGIN:VTIMEZONE
TZID:Europe/Amsterdam
BEGIN:DAYLIGHT
TZOFFSETFROM:+0100
TZOFFSETTO:+0200
TZNAME:CEST
DTSTART:20250330T010000
END:DAYLIGHT
BEGIN:STANDARD
TZOFFSETFROM:+0200
TZOFFSETTO:+0100
TZNAME:CET
DTSTART:20251026T010000
END:STANDARD
BEGIN:DAYLIGHT
TZOFFSETFROM:+0100
TZOFFSETTO:+0200
TZNAME:CEST
DTSTART:20260329T010000
END:DAYLIGHT
BEGIN:STANDARD
TZOFFSETFROM:+0200
TZOFFSETTO:+0100
TZNAME:CET
DTSTART:20261025T010000
END:STANDARD
BEGIN:DAYLIGHT
TZOFFSETFROM:+0100
TZOFFSETTO:+0200
TZNAME:CEST
DTSTART:20270328T010000
END:DAYLIGHT
BEGIN:STANDARD
TZOFFSETFROM:+0200
TZOFFSETTO:+0100
TZNAME:CET
DTSTART:20271031T010000
END:STANDARD
END:VTIMEZONE
BEGIN:VEVENT
DTSTART;TZID=Europe/Amsterdam:20260419T093000
DTEND;TZID=Europe/Amsterdam:20260419T110000
DTSTAMP:20260421T104623
CREATED:20240823T173014Z
LAST-MODIFIED:20250128T080924Z
UID:10000262-1776591000-1776596400@hethool.nl
SUMMARY:Arjen's Bootcamp in 't Hool
DESCRIPTION:Op zoek naar een actieve en gezellige manier om je weekend te beginnen? Sluit je dan aan bij onze bootcamp in het Hool\, waar we al ruim 5 jaar met veel enthousiasme sporten en bewegen! \nMeer info op deze pagina: https://hethool.nl/arjens-bootcamp-in-t-hool/ \n 
URL:https://hethool.nl/evenement/arjens-bootcamp-in-t-hool/2026-04-19/
LOCATION:Voetbalveldje bij R22 Clervauxlaan\, Eindhoven\, Noord-Brabant\, Nederland
CATEGORIES:Arjen's Bootcamp in 't Hool
ATTACH;FMTTYPE=image/jpeg:https://hethool.nl/wp-content/uploads/2024/08/IMG-20190304-WA0005.jpg
ORGANIZER;CN="Arjen Snodijk":MAILTO:a.snoodijk@hotmail. com
GEO:51.474146597334;5.4730495437694
END:VEVENT
END:VCALENDAR